BEGIN:VCALENDAR
VERSION:2.0
PRODID:-//wp-events-plugin.com//7.2.1//EN
TZID:Europe/Stockholm
X-WR-TIMEZONE:Europe/Stockholm
BEGIN:VEVENT
UID:118@salagk.se
DTSTART;TZID=Europe/Stockholm;VALUE=DATE:20240524
DTEND;TZID=Europe/Stockholm;VALUE=DATE:20240527
DTSTAMP:20240321T125201Z
URL:https://salagk.se/events/damresa/
SUMMARY:Damresa
DESCRIPTION:Damresa till Solbacka GK i Gnesta.
END:VEVENT
BEGIN:VTIMEZONE
TZID:Europe/Stockholm
X-LIC-LOCATION:Europe/Stockholm
BEGIN:DAYLIGHT
DTSTART:20240331T030000
TZOFFSETFROM:+0100
TZOFFSETTO:+0200
TZNAME:CEST
END:DAYLIGHT
END:VTIMEZONE
END:VCALENDAR