BEGIN:VCALENDAR
VERSION:2.0
PRODID:-//wp-events-plugin.com//7.2.1//EN
TZID:Europe/Stockholm
X-WR-TIMEZONE:Europe/Stockholm
BEGIN:VEVENT
UID:196@salagk.se
DTSTART;TZID=Europe/Stockholm:20250628T100000
DTEND;TZID=Europe/Stockholm:20250628T140000
DTSTAMP:20250625T124110Z
URL:https://salagk.se/events/footjoy-demo/
SUMMARY:FootJoy Skoutprovning med 3D analys
DESCRIPTION:På lördag den 28 juni kl.10-14 kommer Footjoy för att erbjud
 a skoutprovning till alla med hjälp av sitt unika FitLab\, ett 3D-analys 
 verktyg för din fot. Är du i behov av nya golfskor? Eller vill du bara h
 itta en sko som sitter perfekt på foten och ger dig optimal passform och 
 prestation? På lördag har du chansen att testa flera olika modeller till
 sammans med Linus\, FootJoys skospecialist\, här utanför shopen i detta 
 unika verktyg\, helt gratis!\n\nHör av dig till oss på pro@salagk.se om 
 du har några frågor.\n\nVarmt välkommen!\n\n
ATTACH;FMTTYPE=image/jpeg:https://salagk.se/wp-content/uploads/2025/06/Soc
 ial-Media-SE-1080x1080-1.jpg
CATEGORIES:Evenemang,Kalender
END:VEVENT
BEGIN:VTIMEZONE
TZID:Europe/Stockholm
X-LIC-LOCATION:Europe/Stockholm
BEGIN:DAYLIGHT
DTSTART:20250330T030000
TZOFFSETFROM:+0100
TZOFFSETTO:+0200
TZNAME:CEST
END:DAYLIGHT
END:VTIMEZONE
END:VCALENDAR