BEGIN:VCALENDAR
VERSION:2.0
PRODID:-//wp-events-plugin.com//7.2.1//EN
TZID:Europe/Stockholm
X-WR-TIMEZONE:Europe/Stockholm
BEGIN:VEVENT
UID:144@salagk.se
DTSTART;TZID=Europe/Stockholm:20240722T100000
DTEND;TZID=Europe/Stockholm:20240722T160000
DTSTAMP:20240617T185904Z
URL:https://salagk.se/events/golfveckans-all-inclusive/
SUMMARY:Golfveckans All-inclusive
DESCRIPTION:Shopen och Restaurangen anordnar Golfveckans All-Inclusive\, en
  4-manna scramble med fart och fläkt för familjen eller kompisgänget! L
 äs mer om tävlingen och anmäl dig HÄR.
ATTACH;FMTTYPE=image/jpeg:https://salagk.se/wp-content/uploads/2024/06/Log
 o-GAI.png
CATEGORIES:Evenemang,Kalender
LOCATION:Sala Golfklubb\, Norrby Fallet 100\, Sala\, Sverige
X-APPLE-STRUCTURED-LOCATION;VALUE=URI;X-ADDRESS=Norrby Fallet 100\, Sala\, 
 Sverige;X-APPLE-RADIUS=100;X-TITLE=Sala Golfklubb:geo:0,0
END:VEVENT
BEGIN:VTIMEZONE
TZID:Europe/Stockholm
X-LIC-LOCATION:Europe/Stockholm
BEGIN:DAYLIGHT
DTSTART:20240331T030000
TZOFFSETFROM:+0100
TZOFFSETTO:+0200
TZNAME:CEST
END:DAYLIGHT
END:VTIMEZONE
END:VCALENDAR