BEGIN:VCALENDAR
VERSION:2.0
PRODID:-//wp-events-plugin.com//7.2.1//EN
TZID:Europe/Stockholm
X-WR-TIMEZONE:Europe/Stockholm
BEGIN:VEVENT
UID:195@salagk.se
DTSTART;TZID=Europe/Stockholm:20250705T090000
DTEND;TZID=Europe/Stockholm:20250706T130000
DTSTAMP:20250625T115844Z
URL:https://salagk.se/events/gront-kort-kurs-3/
SUMMARY:Grönt Kort Kurs
DESCRIPTION:Vill du komma igång med golfen?\nDen 5-6 juli har vi grönt ko
 rt kurs där vi går igenom grunderna i spelet\, lär oss hur vi hanterar 
 spel på banan\, hur vi tar vårt gröna kort och mycket mer.\n\nLäs mer 
 om kursen och hur du bokar din plats HÄR.\n\nHör av dig till oss på pro
 @salagk.se om du har några frågor.
ATTACH;FMTTYPE=image/jpeg:https://salagk.se/wp-content/uploads/2022/10/305
 A8336-scaled.jpg
CATEGORIES:Evenemang,Kalender
END:VEVENT
BEGIN:VTIMEZONE
TZID:Europe/Stockholm
X-LIC-LOCATION:Europe/Stockholm
BEGIN:DAYLIGHT
DTSTART:20250330T030000
TZOFFSETFROM:+0100
TZOFFSETTO:+0200
TZNAME:CEST
END:DAYLIGHT
END:VTIMEZONE
END:VCALENDAR