BEGIN:VCALENDAR
VERSION:2.0
PRODID:-//wp-events-plugin.com//7.2.1//EN
TZID:Europe/Stockholm
X-WR-TIMEZONE:Europe/Stockholm
BEGIN:VEVENT
UID:119@salagk.se
DTSTART;TZID=Europe/Stockholm:20240629T110000
DTEND;TZID=Europe/Stockholm:20240629T200000
DTSTAMP:20240322T072309Z
URL:https://salagk.se/events/midsommardansen/
SUMMARY:Midsommardansen
DESCRIPTION:Klädkod: Klänning och hatt
ATTACH;FMTTYPE=image/jpeg:https://salagk.se/wp-content/uploads/2024/03/Dam
 dag-4-2023.jpg
END:VEVENT
BEGIN:VTIMEZONE
TZID:Europe/Stockholm
X-LIC-LOCATION:Europe/Stockholm
BEGIN:DAYLIGHT
DTSTART:20240331T030000
TZOFFSETFROM:+0100
TZOFFSETTO:+0200
TZNAME:CEST
END:DAYLIGHT
END:VTIMEZONE
END:VCALENDAR