BEGIN:VCALENDAR
VERSION:2.0
PRODID:-//wp-events-plugin.com//7.2.1//EN
TZID:Europe/Stockholm
X-WR-TIMEZONE:Europe/Stockholm
BEGIN:VEVENT
UID:197@salagk.se
DTSTART;TZID=Europe/Stockholm:20250709T100000
DTEND;TZID=Europe/Stockholm:20250709T180000
DTSTAMP:20250626T134736Z
URL:https://salagk.se/events/putter-fitting/
SUMMARY:Putter Fitting
DESCRIPTION:På onsdag den 9:e juli erbjuder vi vår första putter fitting
 . Går du och funderar på vilken putter som skulle passa dig bäst? Ta d
 å denna chans att analysera din puttning och hitta ditt perfekta vapen!\n
 \nVarmt välkommen med din anmälan till pro@salagk.se eller hos oss i sho
 pen!\n\n
ATTACH;FMTTYPE=image/jpeg:https://salagk.se/wp-content/uploads/2025/06/IMG
 _1263-scaled.jpg
CATEGORIES:Evenemang,Kalender
END:VEVENT
BEGIN:VTIMEZONE
TZID:Europe/Stockholm
X-LIC-LOCATION:Europe/Stockholm
BEGIN:DAYLIGHT
DTSTART:20250330T030000
TZOFFSETFROM:+0100
TZOFFSETTO:+0200
TZNAME:CEST
END:DAYLIGHT
END:VTIMEZONE
END:VCALENDAR