BEGIN:VCALENDAR
VERSION:2.0
PRODID:-//wp-events-plugin.com//7.2.1//EN
TZID:Europe/Stockholm
X-WR-TIMEZONE:Europe/Stockholm
BEGIN:VEVENT
UID:121@salagk.se
DTSTART;TZID=Europe/Stockholm:20240620T070000
DTEND;TZID=Europe/Stockholm:20240620T210000
DTSTAMP:20240321T133144Z
URL:https://salagk.se/events/sala-open/
SUMMARY:Sala Open
DESCRIPTION:
END:VEVENT
BEGIN:VTIMEZONE
TZID:Europe/Stockholm
X-LIC-LOCATION:Europe/Stockholm
BEGIN:DAYLIGHT
DTSTART:20240331T030000
TZOFFSETFROM:+0100
TZOFFSETTO:+0200
TZNAME:CEST
END:DAYLIGHT
END:VTIMEZONE
END:VCALENDAR