BEGIN:VCALENDAR
VERSION:2.0
PRODID:-//wp-events-plugin.com//7.2.1//EN
TZID:Europe/Stockholm
X-WR-TIMEZONE:Europe/Stockholm
BEGIN:VEVENT
UID:203@salagk.se
DTSTART;TZID=Europe/Stockholm:20250914T110000
DTEND;TZID=Europe/Stockholm:20250914T160000
DTSTAMP:20250908T104525Z
URL:https://salagk.se/events/titleist-demo-testa-nya-t-series-jarnen-2/
SUMMARY:Titleist Demo - Testa nya T Series järnen
DESCRIPTION:Den 14 september kommer Titleist på besök och ger dig chansen
  att testslå alla deras fina produkter. Ta din chans att testa den nya T-
 järnserien. Här har du chans att boka din tid med deras produktspecialis
 ter.\nSjälvklart är du välkommen ut även utan bokad tid för att tests
 lå klubborna. Titleist produktspecialist är på plats mellan 11:00-16:00
 .\n\nBOKA DIN TID HÄR\nVarför ska jag göra en demoutprovning med en pro
 duktspecialist?\nI en demoutprovning får du testa de senaste klubborna. D
 u kan testa klubbor i olika längd\, med olika lie och olika förlåtande 
 egenskaper. Dessutom kan du testa mängder av olika skaft - lätta och tun
 ga\, mjuka och styva\, och allt däremellan. För att se exakt hur de olik
 a klubborna presterar i just din hand mäts alla slagen i Trackman som vis
 ar din slaglängd\, klubbhastighet\, spinntal\, spridning mm. Allt för at
 t göra golfen roligare genom att se till att du får ut det mesta av ditt
  spel.\n\nHör av dig till oss på pro@salagk.se om du har några frågor.
ATTACH;FMTTYPE=image/jpeg:https://salagk.se/wp-content/uploads/2025/07/202
 5_Titleist_TSeries_Group_01_RGB-scaled.png
CATEGORIES:Evenemang,Kalender
END:VEVENT
BEGIN:VTIMEZONE
TZID:Europe/Stockholm
X-LIC-LOCATION:Europe/Stockholm
BEGIN:DAYLIGHT
DTSTART:20250330T030000
TZOFFSETFROM:+0100
TZOFFSETTO:+0200
TZNAME:CEST
END:DAYLIGHT
END:VTIMEZONE
END:VCALENDAR